BEGIN:VCALENDAR
VERSION:2.0
PRODID:-//85.13.145.179//NONSGML kigkonsult.se iCalcreator 2.20//
CALSCALE:GREGORIAN
METHOD:PUBLISH
X-WR-TIMEZONE:UTC
BEGIN:VEVENT
UID:event60@GuG Isselhorst e.V.
DTSTAMP:20260421T121700Z
CATEGORIES:Ausstellung
DESCRIPTION:Ausstellung 2026\nKategorie: Ausstellung\nICS-Link: https://gug
 -isselhorst.de/index.php?option=com_jem&view=event&id=60:ausstellung-2026
 \n
DTSTART:20261010T170000Z
DTEND:20261011T170000Z
LOCATION:Festhalle Isselhorst\,Haller Straße 108\,33334 Gütersloh
SUMMARY:Ausstellung 2026
URL:https://gug-isselhorst.de/index.php?option=com_jem&view=event&id=60:aus
 stellung-2026
END:VEVENT
END:VCALENDAR